BEGIN:VCALENDAR
VERSION:2.0
PRODID:-//Minute Taking Made Easy - ECPv6.15.20//NONSGML v1.0//EN
CALSCALE:GREGORIAN
METHOD:PUBLISH
X-WR-CALNAME:Minute Taking Made Easy
X-ORIGINAL-URL:https://minutetakingmadeeasy.com
X-WR-CALDESC:Events for Minute Taking Made Easy
REFRESH-INTERVAL;VALUE=DURATION:PT1H
X-Robots-Tag:noindex
X-PUBLISHED-TTL:PT1H
BEGIN:VTIMEZONE
TZID:America/New_York
BEGIN:DAYLIGHT
TZOFFSETFROM:-0500
TZOFFSETTO:-0400
TZNAME:EDT
DTSTART:20250309T070000
END:DAYLIGHT
BEGIN:STANDARD
TZOFFSETFROM:-0400
TZOFFSETTO:-0500
TZNAME:EST
DTSTART:20251102T060000
END:STANDARD
BEGIN:DAYLIGHT
TZOFFSETFROM:-0500
TZOFFSETTO:-0400
TZNAME:EDT
DTSTART:20260308T070000
END:DAYLIGHT
BEGIN:STANDARD
TZOFFSETFROM:-0400
TZOFFSETTO:-0500
TZNAME:EST
DTSTART:20261101T060000
END:STANDARD
BEGIN:DAYLIGHT
TZOFFSETFROM:-0500
TZOFFSETTO:-0400
TZNAME:EDT
DTSTART:20270314T070000
END:DAYLIGHT
BEGIN:STANDARD
TZOFFSETFROM:-0400
TZOFFSETTO:-0500
TZNAME:EST
DTSTART:20271107T060000
END:STANDARD
END:VTIMEZONE
BEGIN:VEVENT
DTSTART;TZID=America/New_York:20260409T140000
DTEND;TZID=America/New_York:20260409T150000
DTSTAMP:20260423T171536
CREATED:20201207T040805Z
LAST-MODIFIED:20260121T141026Z
UID:70-1775743200-1775746800@minutetakingmadeeasy.com
SUMMARY:Advanced Minute Taking - Motions & Voting
DESCRIPTION:Advanced Minute Taking – Motions & Bylaws \nDo you ever second-guess yourself when taking minutes? Do you wonder if you really are completing your minutes in the proper/legal way? How much is too much information and how much isn’t enough when documenting decisions\, discussions\, and voting? \nMinute Taking is a skill that needs to be learned and perfected. Just taking down what happens in the meeting isn’t going to be enough if your minutes end up in court. Learn how to protect your company and it’s officers. Discuss what needs to be captured during discussions and decisions\, and why. \nHere’s What You’ll Learn: \n\nThe proper way to document a motion\nVoting– including votes for and against\, as well as those who abstain\nWhat to do when a vote is tied\nHow to edit a motion after it has been voted on\nDocumenting amendments\nOnline voting\nApproval of previous minutes when there are changes to the document\nWho can make motions and who can’t\nTips on consolidating the discussion instead of capturing who said what.\n\nTake your Minute Taking skills to the next level with our one-hour advance session on Motions and Voting. \nPrice of the workshop includes: \n\nInteractive delivery – ask questions anytime\, join in our polls\, quizzes\, and games in real-time\nRecording of session (available for 60 days)\n30 days free email one-on-one coaching\nYour interactive workbook will be sent to you in advance of the workshop\n\n“This workshop/webinar is in compliance with certification guidelines for PACE\, CAP\, and CCAP. Please ensure you ask Rhonda for your certification upon completion.” \n  \nYour Presenter: Rhonda Scharf\, CSP – Canada’s Workplace Efficiency Expert!\nDate: Thursday\, April 9\, 2026\nTime: 2:00pm ET\nCost: Only $149 with 10 access points per registration (10 employees from remote locations may join the live call) \n\n\nAbout your Presenter: Rhonda Scharf\, CSP\, HoF\, Global Speaking Fellow \n \n\n\nInsightful … humorous … entertaining … even contagious  … words that are often used to describe Rhonda Scharf.  A speaker with the uncanny ability to look at the normal and see something quite different.  \n  \nRhonda will share some things she has learned to help you thrive in your work environment\, emerging at the end of the day with a smile and a sense of accomplishment. Audiences far and wide sing her praises for her relevant and useful tips on administration\, communication\, and workplace effectiveness! \n  \nRhonda is an author\, speaker\, trainer\, and grandmother! She has earned her Certified Speaking Professional (less than 7% of all speakers worldwide have earned this designation)\, is a member of the Canadian Speaking Hall of Fame\, and is one of only 35 speakers worldwide who have earned their Global Speaking Fellow (meaning she truly has an international business)\, and been awarded the Spirit of CAPS award. She is the ONLY speaker in the entire world who has earned all four awards. Her peers consider Rhonda a leader in the speaking industry! Her natural warmth and sincerity are balanced by a healthy sense of the absurd\, a combination that is useful in any situation. \n\n  \nTo Register – Email: Warren@on-the-right-track.com with “Register Me for Advanced Minute Taking” in the subject line. He will send you your dial-in information and invoice.
URL:https://minutetakingmadeeasy.com/event/advanced-minute-taking/
LOCATION:Online
END:VEVENT
END:VCALENDAR